BEGIN:VCALENDAR
VERSION:2.0
PRODID:-//National Black MBA Atlanta Chapter - ECPv6.15.20//NONSGML v1.0//EN
CALSCALE:GREGORIAN
METHOD:PUBLISH
X-WR-CALNAME:National Black MBA Atlanta Chapter
X-ORIGINAL-URL:https://atlbmba.org
X-WR-CALDESC:Events for National Black MBA Atlanta Chapter
REFRESH-INTERVAL;VALUE=DURATION:PT1H
X-Robots-Tag:noindex
X-PUBLISHED-TTL:PT1H
BEGIN:VTIMEZONE
TZID:America/New_York
BEGIN:DAYLIGHT
TZOFFSETFROM:-0500
TZOFFSETTO:-0400
TZNAME:EDT
DTSTART:20250309T070000
END:DAYLIGHT
BEGIN:STANDARD
TZOFFSETFROM:-0400
TZOFFSETTO:-0500
TZNAME:EST
DTSTART:20251102T060000
END:STANDARD
BEGIN:DAYLIGHT
TZOFFSETFROM:-0500
TZOFFSETTO:-0400
TZNAME:EDT
DTSTART:20260308T070000
END:DAYLIGHT
BEGIN:STANDARD
TZOFFSETFROM:-0400
TZOFFSETTO:-0500
TZNAME:EST
DTSTART:20261101T060000
END:STANDARD
BEGIN:DAYLIGHT
TZOFFSETFROM:-0500
TZOFFSETTO:-0400
TZNAME:EDT
DTSTART:20270314T070000
END:DAYLIGHT
BEGIN:STANDARD
TZOFFSETFROM:-0400
TZOFFSETTO:-0500
TZNAME:EST
DTSTART:20271107T060000
END:STANDARD
END:VTIMEZONE
BEGIN:VEVENT
DTSTART;TZID=America/New_York:20260421T180000
DTEND;TZID=America/New_York:20260421T203000
DTSTAMP:20260421T215916
CREATED:20260410T014705Z
LAST-MODIFIED:20260410T014705Z
UID:3498-1776794400-1776803400@atlbmba.org
SUMMARY:GEORGIA GUBERNATORIAL FORUM
DESCRIPTION:Overview\n\n\n\n\nJoin us for the Georgia Gubernatorial Forum\, a timely and important conversation bringing together candidates for one of the state’s most in \n\n\n\n\nHosted in collaboration with a coalition of respected community partners\, this forum creates a space for meaningful dialogue around the issues shaping Georgia’s future. Attendees will hear directly from candidates as they share their priorities\, perspectives\, and vision for the state. \nModerated by Maya T. Prabhu\, the discussion will explore key topics impacting our communities\, economy\, and leadership landscape\, offering valuable insights for professionals\, entrepreneurs\, students\, and engaged citizens alike. \nSpace is limited and expected to fill quickly.\nWe encourage you to register using our link to secure your seat. \nBe in the room for this important conversation about the future of Georgia.
URL:https://atlbmba.org/event/georgia-gubernatorial-forum/
LOCATION:Porter Sandford III Performing Arts & Community Center\, 3181 Rainbow Drive\, Decatur\, GA\, 30034\, United States
ATTACH;FMTTYPE=image/jpeg:https://atlbmba.org/wp-content/uploads/2026/04/Untitled-2160-x-1080-px-scaled.jpg
ORGANIZER;CN="NBMBAA Atlanta":MAILTO:communications@atlbmba.org
END:VEVENT
BEGIN:VEVENT
DTSTART;TZID=America/New_York:20260418T090000
DTEND;TZID=America/New_York:20260418T120000
DTSTAMP:20260421T215916
CREATED:20260410T015535Z
LAST-MODIFIED:20260410T015535Z
UID:3506-1776502800-1776513600@atlbmba.org
SUMMARY:Conserve the 4-0-Forest Volunteer Project with Leaders of Tomorrow
DESCRIPTION:Overview\nConserve the 4-0-Forest!\n\n\n\nThis project is in partnership with ATLBMBA’s Leaders of Tomorrow program and will be held in Melvin Drive Park as part of Trees Atlanta’s 4-0-Forest celebration. Your work will improve habitat for humans who use the greenspace for recreation and wildlife that call it home. Activities include hand-pulling and cutting invasive plants such as Chinese privet in a densely wooded area off-trail. You will be required to wear long pants\, a long-sleeved shirt\, and closed-toe shoes or boots that you don’t mind getting dirty. Physical activity\, such as bending\, pulling\, lifting\, and kneeling\, is required. Forest restoration can be physically strenuous – be ready to break a sweat\, get dirty\, and learn a lot while doing it!
URL:https://atlbmba.org/event/conserve-the-4-0-forest-volunteer-project-with-leaders-of-tomorrow/
LOCATION:Melvin Drive Park\, 3895 Melvin Drive Southwest\, Atlanta\, GA\, 30331\, United States
ATTACH;FMTTYPE=image/jpeg:https://atlbmba.org/wp-content/uploads/2026/04/conserve-2160-x-1080-px-1-scaled.jpg
ORGANIZER;CN="NBMBAA Atlanta":MAILTO:communications@atlbmba.org
END:VEVENT
BEGIN:VEVENT
DTSTART;TZID=America/New_York:20260326T183000
DTEND;TZID=America/New_York:20260326T203000
DTSTAMP:20260421T215916
CREATED:20260301T165510Z
LAST-MODIFIED:20260301T165510Z
UID:3448-1774549800-1774557000@atlbmba.org
SUMMARY:Connections & Cocktails
DESCRIPTION:Overview\n\n\nAn after-work experience designed for professionals ready to expand their network\, visibility\, and influence\, all against
URL:https://atlbmba.org/event/connections-cocktails/
LOCATION:RETREAT by The Gathering Spot\, 1115 Howell Mill Road\, Atlanta\, GA\, 30318\, United States
ATTACH;FMTTYPE=image/jpeg:https://atlbmba.org/wp-content/uploads/2026/03/Instagram-Post-Connections-Cocktails.jpeg
ORGANIZER;CN="NBMBAA Atlanta":MAILTO:communications@atlbmba.org
END:VEVENT
END:VCALENDAR